BEGIN:VCALENDAR
VERSION:2.0
PRODID:icalendar-ruby
CALSCALE:GREGORIAN
METHOD:PUBLISH
BEGIN:VEVENT
DTSTAMP:20260420T180833Z
UID:8-1254856@mciboca.org
DTSTART:20261011T133000Z
DTEND:20261011T153000Z
CLASS:PUBLIC
CREATED:20260420T133607
DESCRIPTION:Join us at @MCIBoca Sundays at 9:30am! We’re ecstatic and rea
 dy to welcome you and your family with open arms. Get ready to receive a p
 owerful word from God\, worship wholeheartedly\, and make new friends. \n
 Sundays\n9am Coffee &amp\; Kids Check-in\n9:30am Worship Service\nBoca Bla
 ck Box Center for the Arts\n8221 Glades Rd Suite # 10\nBoca Raton\, FL 334
 34
LAST-MODIFIED:20260420T133607
LOCATION:Boca Black Box Center for the Arts
SUMMARY:Sunday Service
URL;VALUE=URI:https://mciboca.org/events/sunday-service/2026-10-11
ATTACH;FILENAME=54757055989_65f968fe84_o.jpg;FMTTYPE=image/jpeg:https://dq5
 pwpg1q8ru0.cloudfront.net/2025/09/06/06/37/06/fbd7d2c6-a292-45c7-bff8-92f2
 5cdbcc09/54757055989_65f968fe84_o.jpg
END:VEVENT
END:VCALENDAR
